BEGIN:VCALENDAR
VERSION:2.0
PRODID:-//GreenBuzz Berlin e.V. - ECPv5.8.2//NONSGML v1.0//EN
CALSCALE:GREGORIAN
METHOD:PUBLISH
X-WR-CALNAME:GreenBuzz Berlin e.V.
X-ORIGINAL-URL:https://greenbuzzberlin.de
X-WR-CALDESC:Events for GreenBuzz Berlin e.V.
BEGIN:VTIMEZONE
TZID:Europe/Berlin
BEGIN:DAYLIGHT
TZOFFSETFROM:+0100
TZOFFSETTO:+0200
TZNAME:CEST
DTSTART:20170326T010000
END:DAYLIGHT
BEGIN:STANDARD
TZOFFSETFROM:+0200
TZOFFSETTO:+0100
TZNAME:CET
DTSTART:20171029T010000
END:STANDARD
END:VTIMEZONE
BEGIN:VEVENT
DTSTART;TZID=Europe/Berlin:20171128T200000
DTEND;TZID=Europe/Berlin:20171129T000000
DTSTAMP:20260424T101726
CREATED:20171118T161931Z
LAST-MODIFIED:20181118T180247Z
UID:3019-1511899200-1511913600@greenbuzzberlin.de
SUMMARY:Power To Change - Movie Night
DESCRIPTION:  \n \nOur Movie Nights are back! Come on November 28 to watch with us the film POWER TO CHANGE – The EnergyRebellion in Brauhaus Neulich\, in Neukölln. \nDirected by the German director Carl A. Fechner\, POWER TO CHANGE is the story of transition to a future that dispenses with fossil fuels and nuclear energy – told through portraits of the people making it happen. It is touching\, moving\, surprising and informative. With a great accompanying score and shot in lavish Cinemascope\, the film has a clear message for its audience: Let us fight together – for a world that is sustainable and just! \nCheck the trailer here: http://bit.ly/2zQSfEa \n 
URL:https://greenbuzzberlin.de/event/power-change-movie-night/
LOCATION:Brauhaus neulich\, Selchower Str. 20\, Berlin\, Berlin\, 12049\, Germany
CATEGORIES:Sustainability Movies
ATTACH;FMTTYPE=image/jpeg:https://greenbuzzberlin.de/wp-content/uploads/2017/11/POWERTOCHANGE_Presskit_English.jpg
ORGANIZER;CN="GreenBuzz%20Berlin%20e.V.":MAILTO:info@greenbuzzberlin.de
GEO:52.4783912;13.4201283
X-APPLE-STRUCTURED-LOCATION;VALUE=URI;X-ADDRESS=Brauhaus neulich Selchower Str. 20 Berlin Berlin 12049 Germany;X-APPLE-RADIUS=500;X-TITLE=Selchower Str. 20:geo:13.4201283,52.4783912
END:VEVENT
END:VCALENDAR